BEGIN:VCALENDAR
VERSION:2.0
PRODID:DPCALENDAR
CALSCALE:GREGORIAN
X-WR-TIMEZONE:UTC
BEGIN:VEVENT
DTSTART:20200406T083000Z
DTEND:20200406T093000Z
UID:0e1eb2d9dbfd62c5ca239686c5374bac
SUMMARY:Pride of Workmanship 
DTSTAMP:20200228T213759Z
DESCRIPTION:
X-ALT-DESC;FMTTYPE=text/html:
X-ACCESS:1
X-MODIFIED:20200228T213759Z
X-HITS:0
X-URL:
X-COLOR:
END:VEVENT
END:VCALENDAR