BEGIN:VCALENDAR
VERSION:2.0
PRODID:DPCALENDAR
CALSCALE:GREGORIAN
X-WR-TIMEZONE:UTC
BEGIN:VEVENT
DTSTART:20200418T220000Z
DTEND:20200419T080000Z
UID:c23cad930fdd0928e766e00f20b4b075
SUMMARY:District assembly for the incoming Board
DTSTAMP:20200228T213808Z
DESCRIPTION:
X-ALT-DESC;FMTTYPE=text/html:
X-ACCESS:1
X-MODIFIED:20200228T213808Z
X-HITS:0
X-URL:
X-COLOR:
END:VEVENT
END:VCALENDAR