BEGIN:VCALENDAR
VERSION:2.0
PRODID:DPCALENDAR
CALSCALE:GREGORIAN
X-WR-TIMEZONE:UTC
BEGIN:VEVENT
DTSTART:20200602T093000Z
DTEND:20200602T103000Z
UID:75fadbc188ce41519ca067dd9a2c7471
SUMMARY:Joint Board Meeting
DTSTAMP:20200228T213813Z
DESCRIPTION:
X-ALT-DESC;FMTTYPE=text/html:
X-ACCESS:1
X-MODIFIED:20200228T213813Z
X-HITS:0
X-URL:
X-COLOR:
END:VEVENT
END:VCALENDAR