BEGIN:VCALENDAR
VERSION:2.0
PRODID:DPCALENDAR
CALSCALE:GREGORIAN
X-WR-TIMEZONE:UTC
BEGIN:VEVENT
DTSTART;VALUE=DATE:20200413
DTEND;VALUE=DATE:20200414
UID:6ae1967c92dacb69082f691ea8b22995
SUMMARY:Easter Monday  No Rotary meeting tonight
DTSTAMP:20200228T213718Z
DESCRIPTION:
X-ALT-DESC;FMTTYPE=text/html:
X-ACCESS:1
X-MODIFIED:20200228T213718Z
X-HITS:0
X-URL:
X-COLOR:
END:VEVENT
END:VCALENDAR